BEGIN:VCALENDAR
VERSION:2.0
PRODID:-//Southern Skies Flat-Coated Retriever Club - ECPv6.15.20//NONSGML v1.0//EN
CALSCALE:GREGORIAN
METHOD:PUBLISH
X-ORIGINAL-URL:https://southernskiesfcrc.com
X-WR-CALDESC:Events for Southern Skies Flat-Coated Retriever Club
REFRESH-INTERVAL;VALUE=DURATION:PT1H
X-Robots-Tag:noindex
X-PUBLISHED-TTL:PT1H
BEGIN:VTIMEZONE
TZID:America/New_York
BEGIN:DAYLIGHT
TZOFFSETFROM:-0500
TZOFFSETTO:-0400
TZNAME:EDT
DTSTART:20220313T070000
END:DAYLIGHT
BEGIN:STANDARD
TZOFFSETFROM:-0400
TZOFFSETTO:-0500
TZNAME:EST
DTSTART:20221106T060000
END:STANDARD
BEGIN:DAYLIGHT
TZOFFSETFROM:-0500
TZOFFSETTO:-0400
TZNAME:EDT
DTSTART:20230312T070000
END:DAYLIGHT
BEGIN:STANDARD
TZOFFSETFROM:-0400
TZOFFSETTO:-0500
TZNAME:EST
DTSTART:20231105T060000
END:STANDARD
BEGIN:DAYLIGHT
TZOFFSETFROM:-0500
TZOFFSETTO:-0400
TZNAME:EDT
DTSTART:20240310T070000
END:DAYLIGHT
BEGIN:STANDARD
TZOFFSETFROM:-0400
TZOFFSETTO:-0500
TZNAME:EST
DTSTART:20241103T060000
END:STANDARD
BEGIN:DAYLIGHT
TZOFFSETFROM:-0500
TZOFFSETTO:-0400
TZNAME:EDT
DTSTART:20250309T070000
END:DAYLIGHT
BEGIN:STANDARD
TZOFFSETFROM:-0400
TZOFFSETTO:-0500
TZNAME:EST
DTSTART:20251102T060000
END:STANDARD
BEGIN:DAYLIGHT
TZOFFSETFROM:-0500
TZOFFSETTO:-0400
TZNAME:EDT
DTSTART:20260308T070000
END:DAYLIGHT
BEGIN:STANDARD
TZOFFSETFROM:-0400
TZOFFSETTO:-0500
TZNAME:EST
DTSTART:20261101T060000
END:STANDARD
END:VTIMEZONE
BEGIN:VEVENT
DTSTART;VALUE=DATE:20250215
DTEND;VALUE=DATE:20250216
DTSTAMP:20260419T093927
CREATED:20240728T142857Z
LAST-MODIFIED:20240728T142857Z
UID:2108-1739577600-1739663999@southernskiesfcrc.com
SUMMARY:FCRSA Supported Entry & SSFCRC Annual Meeting- Lakeland Dog Shows February 15\, 2025
DESCRIPTION:Join us for our FCRSA Supported Entry\, including puppy and veteran sweepstakes\, at the Lakeland Winter Haven Kennel Club show on Saturday\, February 15\, 2025\, then stay for lunch and our annual meeting!
URL:https://southernskiesfcrc.com/event/fcrsa-supported-entry-ssfcrc-annual-meeting-lakeland-dog-shows-february-15-2025/
LOCATION:Lakeland Florida\, 4175 Medulla Road\, Lakeland\, FL\, 33811\, United States
END:VEVENT
BEGIN:VEVENT
DTSTART;VALUE=DATE:20250201
DTEND;VALUE=DATE:20250202
DTSTAMP:20260419T093927
CREATED:20240728T144040Z
LAST-MODIFIED:20240728T144040Z
UID:2111-1738368000-1738454399@southernskiesfcrc.com
SUMMARY:FCRSA FCAT
DESCRIPTION:Join us for our FCRSA sponsored all-breed FCAT at Dog Sports Unlimited – 875 Tater Rd in New Smyrna Beach\, FL
URL:https://southernskiesfcrc.com/event/fcrsa-fcat/
ORGANIZER;CN="Show Secretary - Maria Avelino":MAILTO:nsbk9action@gmail.com
END:VEVENT
BEGIN:VEVENT
DTSTART;VALUE=DATE:20240217
DTEND;VALUE=DATE:20240218
DTSTAMP:20260419T093927
CREATED:20230604T200422Z
LAST-MODIFIED:20230604T200613Z
UID:2084-1708128000-1708214399@southernskiesfcrc.com
SUMMARY:SSFCRC 2024 Supported Entry & Annual Meeting
DESCRIPTION:SSFCRC will hold their Supported Entry and Annual Meeting on Saturday\, February 17\, 2024 at the Fun ‘n Sun Center in Lakeland FL. regular class judge – Peggy Beisel-McIlwaine\, Sweeps judge TBD; Pending FCRSA and AKC approval. \n 
URL:https://southernskiesfcrc.com/event/ssfcrc-2024-supported-entry-annual-meeting/
END:VEVENT
BEGIN:VEVENT
DTSTART;VALUE=DATE:20240203
DTEND;VALUE=DATE:20240204
DTSTAMP:20260419T093927
CREATED:20230604T201155Z
LAST-MODIFIED:20230604T201301Z
UID:2096-1706918400-1707004799@southernskiesfcrc.com
SUMMARY:FCRSA & SSFCR 2024 Fast CAT -
DESCRIPTION:2 events to be held at Dog Sports Unlimited\, 875 Tater Road\, New Symna Beach\, FL on February 3\, 2024 \n 
URL:https://southernskiesfcrc.com/event/fcrsa-ssfcr-2024-fast-cat/
END:VEVENT
BEGIN:VEVENT
DTSTART;TZID=America/New_York:20230218T080000
DTEND;TZID=America/New_York:20230218T080000
DTSTAMP:20260419T093927
CREATED:20230103T004257Z
LAST-MODIFIED:20230103T004500Z
UID:2054-1676707200-1676707200@southernskiesfcrc.com
SUMMARY:SSFCRC Supported Entry and Annual Meeting
DESCRIPTION:SSFCRC will hold their Supported Entry and Annual Meeting on Saturday\, February 18\, 2023 at the Fun ‘n Sun Center in Lakeland FL.  Deb Edwards\, a long-time flat coat owner and breeder will be judging sweepstakes; Linda Hurlebaus will be judging regular and non-regular classes\, and BOB. \nThe event will include puppy and veteran sweeps along with non-regular and regular classes that are eligible for BOB competition.  As stated in the premium no handlers will be allowed in the sweepstakes events.  This is not in keeping with the FCRSA rules and will not be continued in 2024.  Remember\, if your dog is entered in a non-regular class and does not win the class they are no longer eligible for judging and cannot compete in BOB.  If a dog is entered in a non-regular class and BOB the owner must decide in which class they want to compete. \nThe annual meeting and luncheon will be held at noon\, location to be announced as soon as possible.   \nWe have requested morning ring times so hope to have the meeting and lunch following BOB. \nEntries can be made on www.infodog.com; the show closes February 1\, 2023.  
URL:https://southernskiesfcrc.com/event/ssfcrc-supported-entry-and-annual-meeting/
END:VEVENT
END:VCALENDAR